BEGIN:VCALENDAR
VERSION:2.0
PRODID:-//Plone.org//NONSGML plone.app.event//EN
X-WR-TIMEZONE:Europe/Berlin
BEGIN:VEVENT
SUMMARY:Vorarlberger Filmschaffende - Film - Glaubenskriege
DTSTART;TZID=Europe/Berlin:20070609T220000
DTSTAMP:20260422T150142Z
UID:f321a1d52443445c84901a494ebe4cb5@zmi.spielboden.at
CREATED:20120822T145054Z
LAST-MODIFIED:20120910T114145Z
URL:https://zmi.spielboden.at/Plone/veranstaltungen/2007/06_juni/2007-06-0
 9-22-00-vorarlberger-filmschaffende-film-glaubenskriege
END:VEVENT
BEGIN:VTIMEZONE
TZID:Europe/Berlin
X-LIC-LOCATION:Europe/Berlin
BEGIN:DAYLIGHT
DTSTART:20070325T030000
TZNAME:CEST
TZOFFSETFROM:+0100
TZOFFSETTO:+0200
END:DAYLIGHT
END:VTIMEZONE
END:VCALENDAR
