BEGIN:VCALENDAR
VERSION:2.0
PRODID:-//Plone.org//NONSGML plone.app.event//EN
X-WR-TIMEZONE:Europe/Berlin
BEGIN:VEVENT
SUMMARY:Vorarlberger Filmschaffende - Film - Im Namen der Braut
DTSTART;TZID=Europe/Berlin:20070609T203000
DTSTAMP:20260422T132025Z
UID:05425a0a22bd446eaaf0d3a88ddb8f04@zmi.spielboden.at
CREATED:20120822T145054Z
LAST-MODIFIED:20120910T114145Z
URL:https://zmi.spielboden.at/Plone/veranstaltungen/2007/06_juni/2007-06-0
 9-20-30-vorarlberger-filmschaffende-film-im-namen-der-braut
END:VEVENT
BEGIN:VTIMEZONE
TZID:Europe/Berlin
X-LIC-LOCATION:Europe/Berlin
BEGIN:DAYLIGHT
DTSTART:20070325T030000
TZNAME:CEST
TZOFFSETFROM:+0100
TZOFFSETTO:+0200
END:DAYLIGHT
END:VTIMEZONE
END:VCALENDAR
