BEGIN:VCALENDAR
VERSION:2.0
PRODID:-//Plone.org//NONSGML plone.app.event//EN
X-WR-TIMEZONE:Europe/Berlin
BEGIN:VEVENT
SUMMARY:Vorarlberger Filmschaffende - Film - S. oder vom Schreiben und der
  Einsamkeit
DTSTART;TZID=Europe/Berlin:20070608T220000
DTSTAMP:20260422T133758Z
UID:94090bccdc364c0bb6e413c05eb2f4ad@zmi.spielboden.at
CREATED:20120822T145052Z
LAST-MODIFIED:20120910T114144Z
URL:https://zmi.spielboden.at/Plone/veranstaltungen/2007/06_juni/2007-06-0
 8-22-00-vorarlberger-filmschaffende-film-s-oder-vom-schreiben-und-der-eins
 amkeit
END:VEVENT
BEGIN:VTIMEZONE
TZID:Europe/Berlin
X-LIC-LOCATION:Europe/Berlin
BEGIN:DAYLIGHT
DTSTART:20070325T030000
TZNAME:CEST
TZOFFSETFROM:+0100
TZOFFSETTO:+0200
END:DAYLIGHT
END:VTIMEZONE
END:VCALENDAR
