BEGIN:VCALENDAR
VERSION:2.0
PRODID:-//Plone.org//NONSGML plone.app.event//EN
X-WR-TIMEZONE:Europe/Berlin
BEGIN:VEVENT
SUMMARY:Vorarlberger Filmschaffende - Film - Baptists at Our Barbecue
DTSTART;TZID=Europe/Berlin:20070608T203000
DTSTAMP:20260422T150017Z
UID:1867cd883837493f9f2b9930b570df75@zmi.spielboden.at
CREATED:20120822T145049Z
LAST-MODIFIED:20120910T114144Z
URL:https://zmi.spielboden.at/Plone/veranstaltungen/2007/06_juni/2007-06-0
 8-20-30-vorarlberger-filmschaffende-film-baptists-at-our-barbecue
END:VEVENT
BEGIN:VTIMEZONE
TZID:Europe/Berlin
X-LIC-LOCATION:Europe/Berlin
BEGIN:DAYLIGHT
DTSTART:20070325T030000
TZNAME:CEST
TZOFFSETFROM:+0100
TZOFFSETTO:+0200
END:DAYLIGHT
END:VTIMEZONE
END:VCALENDAR
