BEGIN:VCALENDAR
VERSION:2.0
PRODID:-//Plone.org//NONSGML plone.app.event//EN
X-WR-TIMEZONE:Europe/Berlin
BEGIN:VEVENT
SUMMARY:Vorarlberger Filmschaffende - Doku - Erwachen aus dem Schicksal - 
 Hommage to Edmund Kalb (1900-1952)
DTSTART;TZID=Europe/Berlin:20070607T203000
DTSTAMP:20260422T133249Z
UID:775fadb48f114c9c83297688ce14f31d@zmi.spielboden.at
CREATED:20120822T145047Z
LAST-MODIFIED:20120910T114144Z
URL:https://zmi.spielboden.at/Plone/veranstaltungen/2007/06_juni/2007-06-0
 7-20-30-vorarlberger-filmschaffende-doku-erwachen-aus-dem-schicksal-hommag
 e-to-edmund-kalb-1900-1952
END:VEVENT
BEGIN:VTIMEZONE
TZID:Europe/Berlin
X-LIC-LOCATION:Europe/Berlin
BEGIN:DAYLIGHT
DTSTART:20070325T030000
TZNAME:CEST
TZOFFSETFROM:+0100
TZOFFSETTO:+0200
END:DAYLIGHT
END:VTIMEZONE
END:VCALENDAR
