BEGIN:VCALENDAR
VERSION:2.0
PRODID:-//Plone.org//NONSGML plone.app.event//EN
X-WR-TIMEZONE:Europe/Berlin
BEGIN:VEVENT
SUMMARY:Vienna Art Orchestra: "Thirty Years - 3" -  Jubiläumsprogramm
DTSTART;TZID=Europe/Berlin:20070607T203000
DTSTAMP:20260422T181412Z
UID:3d97a1041fa8419aa2018b6b91939117@zmi.spielboden.at
CREATED:20120822T145030Z
DESCRIPTION:Donnerstag\, 7. bis Samstag\, 9. Juni 2007\n3 Tage Vienna Art 
 Orchestra\n
LAST-MODIFIED:20210809T123651Z
URL:https://zmi.spielboden.at/Plone/veranstaltungen/2007/06_juni/2007-06-0
 7-20-30-vienna-art-orchestra-thirty-years-3-jubilaeumsprogramm
END:VEVENT
BEGIN:VTIMEZONE
TZID:Europe/Berlin
X-LIC-LOCATION:Europe/Berlin
BEGIN:DAYLIGHT
DTSTART:20070325T030000
TZNAME:CEST
TZOFFSETFROM:+0100
TZOFFSETTO:+0200
END:DAYLIGHT
END:VTIMEZONE
END:VCALENDAR
