BEGIN:VCALENDAR
VERSION:2.0
PRODID:-//Plone.org//NONSGML plone.app.event//EN
X-WR-TIMEZONE:Europe/Berlin
BEGIN:VEVENT
SUMMARY:Vorarlberger Filmschaffende - Film - Das weiße Rauschen
DTSTART;TZID=Europe/Berlin:20070606T220000
DTSTAMP:20260422T131315Z
UID:00ace3a58e8a4ddd964c7689ec84ecbd@zmi.spielboden.at
CREATED:20120822T145046Z
LAST-MODIFIED:20210809T123654Z
URL:https://zmi.spielboden.at/Plone/veranstaltungen/2007/06_juni/2007-06-0
 6-22-00-vorarlberger-filmschaffende-film-das-weisse-rauschen
END:VEVENT
BEGIN:VTIMEZONE
TZID:Europe/Berlin
X-LIC-LOCATION:Europe/Berlin
BEGIN:DAYLIGHT
DTSTART:20070325T030000
TZNAME:CEST
TZOFFSETFROM:+0100
TZOFFSETTO:+0200
END:DAYLIGHT
END:VTIMEZONE
END:VCALENDAR
