BEGIN:VCALENDAR
VERSION:2.0
PRODID:-//Plone.org//NONSGML plone.app.event//EN
X-WR-TIMEZONE:Europe/Berlin
BEGIN:VEVENT
SUMMARY:Präsentation der V# 19/20 & Auftakt der Filmreihe „Vorarlberger
  Filmschaffende“
DTSTART;TZID=Europe/Berlin:20070606T203000
DTSTAMP:20260422T133112Z
UID:6756d6088d6e46318408d3f5538f0993@zmi.spielboden.at
CREATED:20120822T145046Z
LAST-MODIFIED:20210809T123654Z
URL:https://zmi.spielboden.at/Plone/veranstaltungen/2007/06_juni/2007-06-0
 6-20-30-praesentation-der-v-19-20-auftakt-der-filmreihe-201evorarlberger-f
 ilmschaffende201c
END:VEVENT
BEGIN:VTIMEZONE
TZID:Europe/Berlin
X-LIC-LOCATION:Europe/Berlin
BEGIN:DAYLIGHT
DTSTART:20070325T030000
TZNAME:CEST
TZOFFSETFROM:+0100
TZOFFSETTO:+0200
END:DAYLIGHT
END:VTIMEZONE
END:VCALENDAR
