BEGIN:VCALENDAR
VERSION:2.0
PRODID:-//Plone.org//NONSGML plone.app.event//EN
X-WR-TIMEZONE:Europe/Berlin
BEGIN:VEVENT
SUMMARY:Dokumentarfilm – Der unbekannte Soldat
DTSTART;TZID=Europe/Berlin:20070605T203000
DTSTAMP:20260422T131835Z
UID:2782c19ef9874c0e835df3bb7f2f4c74@zmi.spielboden.at
CREATED:20120822T145044Z
LAST-MODIFIED:20210809T123654Z
URL:https://zmi.spielboden.at/Plone/veranstaltungen/2007/06_juni/2007-06-0
 5-20-30-dokumentarfilm-2013-der-unbekannte-soldat
END:VEVENT
BEGIN:VTIMEZONE
TZID:Europe/Berlin
X-LIC-LOCATION:Europe/Berlin
BEGIN:DAYLIGHT
DTSTART:20070325T030000
TZNAME:CEST
TZOFFSETFROM:+0100
TZOFFSETTO:+0200
END:DAYLIGHT
END:VTIMEZONE
END:VCALENDAR
