BEGIN:VCALENDAR
VERSION:2.0
PRODID:-//Plone.org//NONSGML plone.app.event//EN
X-WR-TIMEZONE:Europe/Berlin
BEGIN:VEVENT
SUMMARY:Poetry Slam - Kampf der Dichter
DTSTART;TZID=Europe/Berlin:20070601T200000
DTSTAMP:20260422T195647Z
UID:a97ed779a796491a8c309ec21c543e37@zmi.spielboden.at
CREATED:20120822T145041Z
LAST-MODIFIED:20210809T123653Z
URL:https://zmi.spielboden.at/Plone/veranstaltungen/2007/06_juni/2007-06-0
 1-20-00-poetry-slam-kampf-der-dichter
END:VEVENT
BEGIN:VTIMEZONE
TZID:Europe/Berlin
X-LIC-LOCATION:Europe/Berlin
BEGIN:DAYLIGHT
DTSTART:20070325T030000
TZNAME:CEST
TZOFFSETFROM:+0100
TZOFFSETTO:+0200
END:DAYLIGHT
END:VTIMEZONE
END:VCALENDAR
