BEGIN:VCALENDAR
VERSION:2.0
PRODID:-//Plone.org//NONSGML plone.app.event//EN
X-WR-TIMEZONE:Europe/Berlin
BEGIN:VEVENT
SUMMARY:Salsa Night
DTSTART;TZID=Europe/Berlin:20070531T210000
DTSTAMP:20260422T130822Z
UID:39284952764443dfadcaa86856320c41@zmi.spielboden.at
CREATED:20120822T145024Z
LAST-MODIFIED:20210809T123649Z
URL:https://zmi.spielboden.at/Plone/veranstaltungen/2007/05_mai/2007-05-31
 -21-00-salsa-night
END:VEVENT
BEGIN:VTIMEZONE
TZID:Europe/Berlin
X-LIC-LOCATION:Europe/Berlin
BEGIN:DAYLIGHT
DTSTART:20070325T030000
TZNAME:CEST
TZOFFSETFROM:+0100
TZOFFSETTO:+0200
END:DAYLIGHT
END:VTIMEZONE
END:VCALENDAR
