BEGIN:VCALENDAR
VERSION:2.0
PRODID:-//Plone.org//NONSGML plone.app.event//EN
X-WR-TIMEZONE:Europe/Berlin
BEGIN:VEVENT
SUMMARY:Mike Supancic – „Auslese“
DTSTART;TZID=Europe/Berlin:20070530T203000
DTSTAMP:20260422T113241Z
UID:11cf3cd0699141698ffbb051dec3b5df@zmi.spielboden.at
CREATED:20120822T145028Z
LAST-MODIFIED:20210809T123651Z
URL:https://zmi.spielboden.at/Plone/veranstaltungen/2007/05_mai/2007-05-30
 -20-30-mike-supancic-2013-201eauslese201c
END:VEVENT
BEGIN:VTIMEZONE
TZID:Europe/Berlin
X-LIC-LOCATION:Europe/Berlin
BEGIN:DAYLIGHT
DTSTART:20070325T030000
TZNAME:CEST
TZOFFSETFROM:+0100
TZOFFSETTO:+0200
END:DAYLIGHT
END:VTIMEZONE
END:VCALENDAR
