BEGIN:VCALENDAR
VERSION:2.0
PRODID:-//Plone.org//NONSGML plone.app.event//EN
X-WR-TIMEZONE:Europe/Berlin
BEGIN:VEVENT
SUMMARY:Dokumentarfilm – Beijing Bubbles – Punk und Rock in Chinas Hau
 ptstadt
DTSTART;TZID=Europe/Berlin:20070530T203000
DTSTAMP:20260422T132141Z
UID:cef0d11e4d304672ad21e45d83a603cb@zmi.spielboden.at
CREATED:20120822T145027Z
LAST-MODIFIED:20210809T123650Z
URL:https://zmi.spielboden.at/Plone/veranstaltungen/2007/05_mai/2007-05-30
 -20-30-dokumentarfilm-2013-beijing-bubbles-2013-punk-und-rock-in-chinas-ha
 uptstadt
END:VEVENT
BEGIN:VTIMEZONE
TZID:Europe/Berlin
X-LIC-LOCATION:Europe/Berlin
BEGIN:DAYLIGHT
DTSTART:20070325T030000
TZNAME:CEST
TZOFFSETFROM:+0100
TZOFFSETTO:+0200
END:DAYLIGHT
END:VTIMEZONE
END:VCALENDAR
