BEGIN:VCALENDAR
VERSION:2.0
PRODID:-//Plone.org//NONSGML plone.app.event//EN
X-WR-TIMEZONE:Europe/Berlin
BEGIN:VEVENT
SUMMARY:Dokumentarfilm – Massaker
DTSTART;TZID=Europe/Berlin:20070529T203000
DTSTAMP:20260422T113251Z
UID:4ee8a4c66d1c46b5ba4a41981b888582@zmi.spielboden.at
CREATED:20120822T145027Z
LAST-MODIFIED:20210809T123650Z
URL:https://zmi.spielboden.at/Plone/veranstaltungen/2007/05_mai/2007-05-29
 -20-30-dokumentarfilm-2013-massaker
END:VEVENT
BEGIN:VTIMEZONE
TZID:Europe/Berlin
X-LIC-LOCATION:Europe/Berlin
BEGIN:DAYLIGHT
DTSTART:20070325T030000
TZNAME:CEST
TZOFFSETFROM:+0100
TZOFFSETTO:+0200
END:DAYLIGHT
END:VTIMEZONE
END:VCALENDAR
