BEGIN:VCALENDAR
VERSION:2.0
PRODID:-//Plone.org//NONSGML plone.app.event//EN
X-WR-TIMEZONE:Europe/Berlin
BEGIN:VEVENT
SUMMARY:TROPICANA – Clube Do Balanco
DTSTART;TZID=Europe/Berlin:20070524T210000
DTSTAMP:20260422T113418Z
UID:9d2a9037dd0446379cce6809c0341687@zmi.spielboden.at
CREATED:20120822T145012Z
DESCRIPTION:TROPICANA \nWorld Music Festival – 16. bis 26. Mai 2007\n\n
LAST-MODIFIED:20210809T123647Z
URL:https://zmi.spielboden.at/Plone/veranstaltungen/2007/05_mai/2007-05-24
 -21-00-tropicana-2013-clube-do-balanco
END:VEVENT
BEGIN:VTIMEZONE
TZID:Europe/Berlin
X-LIC-LOCATION:Europe/Berlin
BEGIN:DAYLIGHT
DTSTART:20070325T030000
TZNAME:CEST
TZOFFSETFROM:+0100
TZOFFSETTO:+0200
END:DAYLIGHT
END:VTIMEZONE
END:VCALENDAR
