BEGIN:VCALENDAR
VERSION:2.0
PRODID:-//Plone.org//NONSGML plone.app.event//EN
X-WR-TIMEZONE:Europe/Berlin
BEGIN:VEVENT
SUMMARY:TROPICANA – Dokumentarfilm – Calypso at Dirty Jim’s
DTSTART;TZID=Europe/Berlin:20070523T203000
DTSTAMP:20260422T132339Z
UID:35ae38ccfc28449ab14bb996fa0df2a3@zmi.spielboden.at
CREATED:20120822T145011Z
DESCRIPTION:TROPICANA \nWorld Music Festival – 16. bis 26. Mai 2007\n
LAST-MODIFIED:20210809T123647Z
URL:https://zmi.spielboden.at/Plone/veranstaltungen/2007/05_mai/2007-05-23
 -20-30-tropicana-2013-dokumentarfilm-2013-calypso-at-dirty-jim2019s
END:VEVENT
BEGIN:VTIMEZONE
TZID:Europe/Berlin
X-LIC-LOCATION:Europe/Berlin
BEGIN:DAYLIGHT
DTSTART:20070325T030000
TZNAME:CEST
TZOFFSETFROM:+0100
TZOFFSETTO:+0200
END:DAYLIGHT
END:VTIMEZONE
END:VCALENDAR
