BEGIN:VCALENDAR
VERSION:2.0
PRODID:-//Plone.org//NONSGML plone.app.event//EN
X-WR-TIMEZONE:Europe/Berlin
BEGIN:VEVENT
SUMMARY:TROPICANA – Dokumentarfilm – Amadou & Mariam – Dimanche à B
 amako
DTSTART;TZID=Europe/Berlin:20070522T203000
DTSTAMP:20260422T113706Z
UID:da39a219f9d7488aae9d9330c037bafe@zmi.spielboden.at
CREATED:20120822T145011Z
DESCRIPTION:TROPICANA \nWorld Music Festival – 16. bis 26. Mai 2007\n
LAST-MODIFIED:20210809T123647Z
URL:https://zmi.spielboden.at/Plone/veranstaltungen/2007/05_mai/2007-05-22
 -20-30-tropicana-2013-dokumentarfilm-2013-amadou-mariam-2013-dimanche-a-ba
 mako
END:VEVENT
BEGIN:VTIMEZONE
TZID:Europe/Berlin
X-LIC-LOCATION:Europe/Berlin
BEGIN:DAYLIGHT
DTSTART:20070325T030000
TZNAME:CEST
TZOFFSETFROM:+0100
TZOFFSETTO:+0200
END:DAYLIGHT
END:VTIMEZONE
END:VCALENDAR
