BEGIN:VCALENDAR
VERSION:2.0
PRODID:-//Plone.org//NONSGML plone.app.event//EN
X-WR-TIMEZONE:Europe/Berlin
BEGIN:VEVENT
SUMMARY:Fertig\, Los!
DTSTART;TZID=Europe/Berlin:20070519T220000
DTSTAMP:20260422T113341Z
UID:f0c5b9bd880d4c799d6d10c530f0fb25@zmi.spielboden.at
CREATED:20120822T145029Z
DESCRIPTION:Auf die Plätze..... FERTIG\, LOS!
LAST-MODIFIED:20210809T123651Z
URL:https://zmi.spielboden.at/Plone/veranstaltungen/2007/05_mai/2007-05-19
 -22-00-fertig-los
END:VEVENT
BEGIN:VTIMEZONE
TZID:Europe/Berlin
X-LIC-LOCATION:Europe/Berlin
BEGIN:DAYLIGHT
DTSTART:20070325T030000
TZNAME:CEST
TZOFFSETFROM:+0100
TZOFFSETTO:+0200
END:DAYLIGHT
END:VTIMEZONE
END:VCALENDAR
