BEGIN:VCALENDAR
VERSION:2.0
PRODID:-//Plone.org//NONSGML plone.app.event//EN
X-WR-TIMEZONE:Europe/Berlin
BEGIN:VEVENT
SUMMARY:Poetry Slam Workshop - Abschlussslam
DTSTART;TZID=Europe/Berlin:20070519T190000
DTSTAMP:20260422T113325Z
UID:042830a470fc40a99792ab280f0480e9@zmi.spielboden.at
CREATED:20120822T145026Z
LAST-MODIFIED:20120910T114141Z
URL:https://zmi.spielboden.at/Plone/veranstaltungen/2007/05_mai/2007-05-19
 -19-00-poetry-slam-workshop-abschlussslam
END:VEVENT
BEGIN:VTIMEZONE
TZID:Europe/Berlin
X-LIC-LOCATION:Europe/Berlin
BEGIN:DAYLIGHT
DTSTART:20070325T030000
TZNAME:CEST
TZOFFSETFROM:+0100
TZOFFSETTO:+0200
END:DAYLIGHT
END:VTIMEZONE
END:VCALENDAR
