BEGIN:VCALENDAR
VERSION:2.0
PRODID:-//Plone.org//NONSGML plone.app.event//EN
X-WR-TIMEZONE:Europe/Berlin
BEGIN:VEVENT
SUMMARY:Poetry Slam-Workshop
DTSTART;TZID=Europe/Berlin:20070519T150000
DTSTAMP:20260422T131114Z
UID:0af3995312ad43b5b12459264d9c331f@zmi.spielboden.at
CREATED:20120822T145026Z
LAST-MODIFIED:20120910T114141Z
URL:https://zmi.spielboden.at/Plone/veranstaltungen/2007/05_mai/2007-05-19
 -15-00-poetry-slam-workshop
END:VEVENT
BEGIN:VTIMEZONE
TZID:Europe/Berlin
X-LIC-LOCATION:Europe/Berlin
BEGIN:DAYLIGHT
DTSTART:20070325T030000
TZNAME:CEST
TZOFFSETFROM:+0100
TZOFFSETTO:+0200
END:DAYLIGHT
END:VTIMEZONE
END:VCALENDAR
