BEGIN:VCALENDAR
VERSION:2.0
PRODID:-//Plone.org//NONSGML plone.app.event//EN
X-WR-TIMEZONE:Europe/Berlin
BEGIN:VEVENT
SUMMARY:Compagnie Smafu – Verhext und Zugenäht
DTSTART;TZID=Europe/Berlin:20070519T150000
DTSTAMP:20260422T131222Z
UID:b47bd4296d294587892d3b3e4246bae3@zmi.spielboden.at
CREATED:20120822T145007Z
DESCRIPTION:Tanzproduktion für Kinder ab 8 Jahren
LAST-MODIFIED:20210809T123646Z
URL:https://zmi.spielboden.at/Plone/veranstaltungen/2007/05_mai/2007-05-19
 -15-00-compagnie-smafu-2013-verhext-und-zugenaeht
END:VEVENT
BEGIN:VTIMEZONE
TZID:Europe/Berlin
X-LIC-LOCATION:Europe/Berlin
BEGIN:DAYLIGHT
DTSTART:20070325T030000
TZNAME:CEST
TZOFFSETFROM:+0100
TZOFFSETTO:+0200
END:DAYLIGHT
END:VTIMEZONE
END:VCALENDAR
