BEGIN:VCALENDAR
VERSION:2.0
PRODID:-//Plone.org//NONSGML plone.app.event//EN
X-WR-TIMEZONE:Europe/Berlin
BEGIN:VEVENT
SUMMARY:Film „Irma La Douce“ & Vortrag: Die Entfesselung der Phantasie
  und die Ängste der Obrigkeit
DTSTART;TZID=Europe/Berlin:20070518T203000
DTSTAMP:20260422T132233Z
UID:edf783df8e8a4b2eb31a0342546bacc5@zmi.spielboden.at
CREATED:20120822T145803Z
DESCRIPTION:Geistiger Umweltschutz – Filmzensur in Vorarlberg
LAST-MODIFIED:20210809T124122Z
URL:https://zmi.spielboden.at/Plone/veranstaltungen/2007/05_mai/2007-05-18
 -20-30-film-201eirma-la-douce201c-vortrag-die-entfesselung-der-phantasie-u
 nd-die-angste-der-obrigkeit
END:VEVENT
BEGIN:VTIMEZONE
TZID:Europe/Berlin
X-LIC-LOCATION:Europe/Berlin
BEGIN:DAYLIGHT
DTSTART:20070325T030000
TZNAME:CEST
TZOFFSETFROM:+0100
TZOFFSETTO:+0200
END:DAYLIGHT
END:VTIMEZONE
END:VCALENDAR
