BEGIN:VCALENDAR
VERSION:2.0
PRODID:-//Plone.org//NONSGML plone.app.event//EN
X-WR-TIMEZONE:Europe/Berlin
BEGIN:VEVENT
SUMMARY:Poetry Slam-Workshop
DTSTART;TZID=Europe/Berlin:20070518T190000
DTSTAMP:20260422T130910Z
UID:b12c8a16441146c68dec5123a34e6aaa@zmi.spielboden.at
CREATED:20120822T145025Z
LAST-MODIFIED:20120910T114141Z
URL:https://zmi.spielboden.at/Plone/veranstaltungen/2007/05_mai/2007-05-18
 -19-00-poetry-slam-workshop
END:VEVENT
BEGIN:VTIMEZONE
TZID:Europe/Berlin
X-LIC-LOCATION:Europe/Berlin
BEGIN:DAYLIGHT
DTSTART:20070325T030000
TZNAME:CEST
TZOFFSETFROM:+0100
TZOFFSETTO:+0200
END:DAYLIGHT
END:VTIMEZONE
END:VCALENDAR
