BEGIN:VCALENDAR
VERSION:2.0
PRODID:-//Plone.org//NONSGML plone.app.event//EN
X-WR-TIMEZONE:Europe/Berlin
BEGIN:VEVENT
SUMMARY:Salsa Night
DTSTART;TZID=Europe/Berlin:20070517T210000
DTSTAMP:20260422T130819Z
UID:eb7e0caae6bf4db9a78bf1c4cf193d9e@zmi.spielboden.at
CREATED:20120822T145023Z
LAST-MODIFIED:20210809T123649Z
URL:https://zmi.spielboden.at/Plone/veranstaltungen/2007/05_mai/2007-05-17
 -21-00-salsa-night
END:VEVENT
BEGIN:VTIMEZONE
TZID:Europe/Berlin
X-LIC-LOCATION:Europe/Berlin
BEGIN:DAYLIGHT
DTSTART:20070325T030000
TZNAME:CEST
TZOFFSETFROM:+0100
TZOFFSETTO:+0200
END:DAYLIGHT
END:VTIMEZONE
END:VCALENDAR
