BEGIN:VCALENDAR
VERSION:2.0
PRODID:-//Plone.org//NONSGML plone.app.event//EN
X-WR-TIMEZONE:Europe/Berlin
BEGIN:VEVENT
SUMMARY:Film „Das Gespenst“ & Diskussion: Die Würde der Religion und 
 die Freiheit der Kunst
DTSTART;TZID=Europe/Berlin:20070516T203000
DTSTAMP:20260422T131457Z
UID:b2170bb4d2b54950a56cc4667fb2ca7f@zmi.spielboden.at
CREATED:20120822T145803Z
DESCRIPTION:Geistiger Umweltschutz – Filmzensur in Vorarlberg
LAST-MODIFIED:20120910T114215Z
URL:https://zmi.spielboden.at/Plone/veranstaltungen/2007/05_mai/2007-05-16
 -20-30-film-201edas-gespenst201c-diskussion-die-wurde-der-religion-und-die
 -freiheit-der-kunst
END:VEVENT
BEGIN:VTIMEZONE
TZID:Europe/Berlin
X-LIC-LOCATION:Europe/Berlin
BEGIN:DAYLIGHT
DTSTART:20070325T030000
TZNAME:CEST
TZOFFSETFROM:+0100
TZOFFSETTO:+0200
END:DAYLIGHT
END:VTIMEZONE
END:VCALENDAR
