BEGIN:VCALENDAR
VERSION:2.0
PRODID:-//Plone.org//NONSGML plone.app.event//EN
X-WR-TIMEZONE:Europe/Berlin
BEGIN:VEVENT
SUMMARY:Buchpräsentation & Diskussion – Filmzensur und kulturelle Gegen
 bewegung in Vorarlberg
DTSTART;TZID=Europe/Berlin:20070515T203000
DTSTAMP:20260422T113937Z
UID:eb6e761960c74f07bcc2995dc381988f@zmi.spielboden.at
CREATED:20120822T150000Z
DESCRIPTION:Geistiger Umweltschutz – Filmzensur in Vorarlberg
LAST-MODIFIED:20120910T114221Z
URL:https://zmi.spielboden.at/Plone/veranstaltungen/2007/05_mai/2007-05-15
 -20-30-buchprasentation-diskussion-2013-filmzensur-und-kulturelle-gegenbew
 egung-in-vorarlberg
END:VEVENT
BEGIN:VTIMEZONE
TZID:Europe/Berlin
X-LIC-LOCATION:Europe/Berlin
BEGIN:DAYLIGHT
DTSTART:20070325T030000
TZNAME:CEST
TZOFFSETFROM:+0100
TZOFFSETTO:+0200
END:DAYLIGHT
END:VTIMEZONE
END:VCALENDAR
