BEGIN:VCALENDAR
VERSION:2.0
PRODID:-//Plone.org//NONSGML plone.app.event//EN
X-WR-TIMEZONE:Europe/Berlin
BEGIN:VEVENT
SUMMARY:Tin Hat
DTSTART;TZID=Europe/Berlin:20070512T203000
DTSTAMP:20260422T130828Z
UID:53ff37bfcecb406bac071e725fd67b03@zmi.spielboden.at
CREATED:20120822T145008Z
LAST-MODIFIED:20210809T123646Z
URL:https://zmi.spielboden.at/Plone/veranstaltungen/2007/05_mai/2007-05-12
 -20-30-tin-hat
END:VEVENT
BEGIN:VTIMEZONE
TZID:Europe/Berlin
X-LIC-LOCATION:Europe/Berlin
BEGIN:DAYLIGHT
DTSTART:20070325T030000
TZNAME:CEST
TZOFFSETFROM:+0100
TZOFFSETTO:+0200
END:DAYLIGHT
END:VTIMEZONE
END:VCALENDAR
