BEGIN:VCALENDAR
VERSION:2.0
PRODID:-//Plone.org//NONSGML plone.app.event//EN
X-WR-TIMEZONE:Europe/Berlin
BEGIN:VEVENT
SUMMARY:Spielboden Kasperletheater
DTSTART;TZID=Europe/Berlin:20070512T150000
DTSTAMP:20260422T131230Z
UID:b17576c981344f37adc4a5a635397ce7@zmi.spielboden.at
CREATED:20120822T145007Z
DESCRIPTION:Puppentheater ab 4 Jahren
LAST-MODIFIED:20210809T123646Z
URL:https://zmi.spielboden.at/Plone/veranstaltungen/2007/05_mai/2007-05-12
 -15-00-spielboden-kasperletheater
END:VEVENT
BEGIN:VTIMEZONE
TZID:Europe/Berlin
X-LIC-LOCATION:Europe/Berlin
BEGIN:DAYLIGHT
DTSTART:20070325T030000
TZNAME:CEST
TZOFFSETFROM:+0100
TZOFFSETTO:+0200
END:DAYLIGHT
END:VTIMEZONE
END:VCALENDAR
