BEGIN:VCALENDAR
VERSION:2.0
PRODID:-//Plone.org//NONSGML plone.app.event//EN
X-WR-TIMEZONE:Europe/Berlin
BEGIN:VEVENT
SUMMARY:Flittchen - Frühlingsgala - "Take me out tonight"
DTSTART;TZID=Europe/Berlin:20070511T203000
DTSTAMP:20260422T131808Z
UID:9b7ab1a094e142e7b4504390e8c44ef8@zmi.spielboden.at
CREATED:20120822T145019Z
DESCRIPTION:Ein Galaabend mit Britta\, Luchs\,  Andreas Spechtl und Jens F
 riebe. Gäste:  Joyside aus Peking
LAST-MODIFIED:20210809T123649Z
URL:https://zmi.spielboden.at/Plone/veranstaltungen/2007/05_mai/2007-05-11
 -20-30-flittchen-fruehlingsgala-take-me-out-tonight
END:VEVENT
BEGIN:VTIMEZONE
TZID:Europe/Berlin
X-LIC-LOCATION:Europe/Berlin
BEGIN:DAYLIGHT
DTSTART:20070325T030000
TZNAME:CEST
TZOFFSETFROM:+0100
TZOFFSETTO:+0200
END:DAYLIGHT
END:VTIMEZONE
END:VCALENDAR
