BEGIN:VCALENDAR
VERSION:2.0
PRODID:-//Plone.org//NONSGML plone.app.event//EN
X-WR-TIMEZONE:Europe/Berlin
BEGIN:VEVENT
SUMMARY:Dreckige Combo
DTSTART;TZID=Europe/Berlin:20070510T203000
DTSTAMP:20260422T130741Z
UID:6cd58aeef9fa4cbdbfeac6d177ece700@zmi.spielboden.at
CREATED:20120822T145009Z
DESCRIPTION:Akkordeon-Festival am Spielboden - 4. März bis 10. Mai 2007
LAST-MODIFIED:20210809T123646Z
URL:https://zmi.spielboden.at/Plone/veranstaltungen/2007/05_mai/2007-05-10
 -20-30-dreckige-combo
END:VEVENT
BEGIN:VTIMEZONE
TZID:Europe/Berlin
X-LIC-LOCATION:Europe/Berlin
BEGIN:DAYLIGHT
DTSTART:20070325T030000
TZNAME:CEST
TZOFFSETFROM:+0100
TZOFFSETTO:+0200
END:DAYLIGHT
END:VTIMEZONE
END:VCALENDAR
