BEGIN:VCALENDAR
VERSION:2.0
PRODID:-//Plone.org//NONSGML plone.app.event//EN
X-WR-TIMEZONE:Europe/Berlin
BEGIN:VEVENT
SUMMARY:Dokumentarfilm – Über Wasser
DTSTART;TZID=Europe/Berlin:20070510T203000
DTSTAMP:20260422T095439Z
UID:5d4ba719ed2c4b229c8cb2dd88ddae5a@zmi.spielboden.at
CREATED:20120822T145018Z
LAST-MODIFIED:20210809T123648Z
URL:https://zmi.spielboden.at/Plone/veranstaltungen/2007/05_mai/2007-05-10
 -20-30-dokumentarfilm-2013-ueber-wasser
END:VEVENT
BEGIN:VTIMEZONE
TZID:Europe/Berlin
X-LIC-LOCATION:Europe/Berlin
BEGIN:DAYLIGHT
DTSTART:20070325T030000
TZNAME:CEST
TZOFFSETFROM:+0100
TZOFFSETTO:+0200
END:DAYLIGHT
END:VTIMEZONE
END:VCALENDAR
