BEGIN:VCALENDAR
VERSION:2.0
PRODID:-//Plone.org//NONSGML plone.app.event//EN
X-WR-TIMEZONE:Europe/Berlin
BEGIN:VEVENT
SUMMARY:Dokumentarfilm – Aus der Zeit
DTSTART;TZID=Europe/Berlin:20070508T203000
DTSTAMP:20260422T095326Z
UID:e889efac74224b48840f873862d1f126@zmi.spielboden.at
CREATED:20120822T145017Z
LAST-MODIFIED:20210809T123648Z
URL:https://zmi.spielboden.at/Plone/veranstaltungen/2007/05_mai/2007-05-08
 -20-30-dokumentarfilm-2013-aus-der-zeit
END:VEVENT
BEGIN:VTIMEZONE
TZID:Europe/Berlin
X-LIC-LOCATION:Europe/Berlin
BEGIN:DAYLIGHT
DTSTART:20070325T030000
TZNAME:CEST
TZOFFSETFROM:+0100
TZOFFSETTO:+0200
END:DAYLIGHT
END:VTIMEZONE
END:VCALENDAR
