BEGIN:VCALENDAR
VERSION:2.0
PRODID:-//Plone.org//NONSGML plone.app.event//EN
X-WR-TIMEZONE:Europe/Berlin
BEGIN:VEVENT
SUMMARY:Konzert – LoCut
DTSTART;TZID=Europe/Berlin:20070504T220000
DTSTAMP:20260422T094925Z
UID:cb11b4841e48465a835050194f9c89f0@zmi.spielboden.at
CREATED:20120822T145016Z
LAST-MODIFIED:20210809T123648Z
URL:https://zmi.spielboden.at/Plone/veranstaltungen/2007/05_mai/2007-05-04
 -22-00-konzert-2013-locut
END:VEVENT
BEGIN:VTIMEZONE
TZID:Europe/Berlin
X-LIC-LOCATION:Europe/Berlin
BEGIN:DAYLIGHT
DTSTART:20070325T030000
TZNAME:CEST
TZOFFSETFROM:+0100
TZOFFSETTO:+0200
END:DAYLIGHT
END:VTIMEZONE
END:VCALENDAR
