BEGIN:VCALENDAR
VERSION:2.0
PRODID:-//Plone.org//NONSGML plone.app.event//EN
X-WR-TIMEZONE:Europe/Berlin
BEGIN:VEVENT
SUMMARY:Dokumentarfilm – La dignidad de los nadies
DTSTART;TZID=Europe/Berlin:20070503T203000
DTSTAMP:20260422T100511Z
UID:d2c50244d1bb4d5297676edae62825fa@zmi.spielboden.at
CREATED:20120822T145015Z
LAST-MODIFIED:20210809T123648Z
URL:https://zmi.spielboden.at/Plone/veranstaltungen/2007/05_mai/2007-05-03
 -20-30-dokumentarfilm-2013-la-dignidad-de-los-nadies
END:VEVENT
BEGIN:VTIMEZONE
TZID:Europe/Berlin
X-LIC-LOCATION:Europe/Berlin
BEGIN:DAYLIGHT
DTSTART:20070325T030000
TZNAME:CEST
TZOFFSETFROM:+0100
TZOFFSETTO:+0200
END:DAYLIGHT
END:VTIMEZONE
END:VCALENDAR
