BEGIN:VCALENDAR
VERSION:2.0
PRODID:-//Plone.org//NONSGML plone.app.event//EN
X-WR-TIMEZONE:Europe/Berlin
BEGIN:VEVENT
SUMMARY:Dokumentarfilm – China Blue
DTSTART;TZID=Europe/Berlin:20070428T203000
DTSTAMP:20260422T095057Z
UID:bc3b8a5531af4804b242e6aa9810b2be@zmi.spielboden.at
CREATED:20120822T145002Z
LAST-MODIFIED:20210809T123645Z
URL:https://zmi.spielboden.at/Plone/veranstaltungen/2007/04_april/2007-04-
 28-20-30-dokumentarfilm-2013-china-blue
END:VEVENT
BEGIN:VTIMEZONE
TZID:Europe/Berlin
X-LIC-LOCATION:Europe/Berlin
BEGIN:DAYLIGHT
DTSTART:20070325T030000
TZNAME:CEST
TZOFFSETFROM:+0100
TZOFFSETTO:+0200
END:DAYLIGHT
END:VTIMEZONE
END:VCALENDAR
