BEGIN:VCALENDAR
VERSION:2.0
PRODID:-//Plone.org//NONSGML plone.app.event//EN
X-WR-TIMEZONE:Europe/Berlin
BEGIN:VEVENT
SUMMARY:Arne Rautenberg – Kindergedichte und Reime
DTSTART;TZID=Europe/Berlin:20070428T150000
DTSTAMP:20260422T095224Z
UID:330f165a8fa34a6facbe009dc0690cb3@zmi.spielboden.at
CREATED:20120822T144943Z
DESCRIPTION:Poesie International 2007 für Kinder ab 5 Jahren
LAST-MODIFIED:20210809T123640Z
URL:https://zmi.spielboden.at/Plone/veranstaltungen/2007/04_april/2007-04-
 28-15-00-arne-rautenberg-2013-kindergedichte-und-reime
END:VEVENT
BEGIN:VTIMEZONE
TZID:Europe/Berlin
X-LIC-LOCATION:Europe/Berlin
BEGIN:DAYLIGHT
DTSTART:20070325T030000
TZNAME:CEST
TZOFFSETFROM:+0100
TZOFFSETTO:+0200
END:DAYLIGHT
END:VTIMEZONE
END:VCALENDAR
