BEGIN:VCALENDAR
VERSION:2.0
PRODID:-//Plone.org//NONSGML plone.app.event//EN
X-WR-TIMEZONE:Europe/Berlin
BEGIN:VEVENT
SUMMARY:Film – Das Beil von Wandsbek
DTSTART;TZID=Europe/Berlin:20070427T203000
DTSTAMP:20260422T100132Z
UID:f280c617c15c4c129a01490b2d7b12b8@zmi.spielboden.at
CREATED:20120822T145001Z
DESCRIPTION:Todesstrafe im Film – In Zusammenarbeit mit Amnesty Internat
 ional
LAST-MODIFIED:20210809T123644Z
URL:https://zmi.spielboden.at/Plone/veranstaltungen/2007/04_april/2007-04-
 27-20-30-film-2013-das-beil-von-wandsbek
END:VEVENT
BEGIN:VTIMEZONE
TZID:Europe/Berlin
X-LIC-LOCATION:Europe/Berlin
BEGIN:DAYLIGHT
DTSTART:20070325T030000
TZNAME:CEST
TZOFFSETFROM:+0100
TZOFFSETTO:+0200
END:DAYLIGHT
END:VTIMEZONE
END:VCALENDAR
