BEGIN:VCALENDAR
VERSION:2.0
PRODID:-//Plone.org//NONSGML plone.app.event//EN
X-WR-TIMEZONE:Europe/Berlin
BEGIN:VEVENT
SUMMARY:Poesie International 2007
DTSTART;TZID=Europe/Berlin:20070427T200000
DTSTAMP:20260422T113351Z
UID:22177d3c333f4558a6a440aa85470b15@zmi.spielboden.at
CREATED:20120822T145002Z
DESCRIPTION:Literatur- und Lyrikfestival am Spielboden
LAST-MODIFIED:20210809T123645Z
URL:https://zmi.spielboden.at/Plone/veranstaltungen/2007/04_april/2007-04-
 27-20-00-poesie-international-2007
END:VEVENT
BEGIN:VTIMEZONE
TZID:Europe/Berlin
X-LIC-LOCATION:Europe/Berlin
BEGIN:DAYLIGHT
DTSTART:20070325T030000
TZNAME:CEST
TZOFFSETFROM:+0100
TZOFFSETTO:+0200
END:DAYLIGHT
END:VTIMEZONE
END:VCALENDAR
