BEGIN:VCALENDAR
VERSION:2.0
PRODID:-//Plone.org//NONSGML plone.app.event//EN
X-WR-TIMEZONE:Europe/Berlin
BEGIN:VEVENT
SUMMARY:Poesie International 2007
DTSTART;TZID=Europe/Berlin:20070426T193000
DTSTAMP:20260422T100037Z
UID:4c551b437e994e6581223afad04c90dd@zmi.spielboden.at
CREATED:20120822T144946Z
DESCRIPTION:Literatur- und Lyrikfestival am Spielboden
LAST-MODIFIED:20210809T123641Z
URL:https://zmi.spielboden.at/Plone/veranstaltungen/2007/04_april/2007-04-
 26-19-30-poesie-international-2007
END:VEVENT
BEGIN:VTIMEZONE
TZID:Europe/Berlin
X-LIC-LOCATION:Europe/Berlin
BEGIN:DAYLIGHT
DTSTART:20070325T030000
TZNAME:CEST
TZOFFSETFROM:+0100
TZOFFSETTO:+0200
END:DAYLIGHT
END:VTIMEZONE
END:VCALENDAR
