BEGIN:VCALENDAR
VERSION:2.0
PRODID:-//Plone.org//NONSGML plone.app.event//EN
X-WR-TIMEZONE:Europe/Berlin
BEGIN:VEVENT
SUMMARY:Kronenzeitung Lesen! mit SERDAR SOMUNCU
DTSTART;TZID=Europe/Berlin:20070422T203000
DTSTAMP:20260422T095015Z
UID:a887f3c15828485c9e26667b1cb91b6d@zmi.spielboden.at
CREATED:20120822T145005Z
LAST-MODIFIED:20210809T123645Z
URL:https://zmi.spielboden.at/Plone/veranstaltungen/2007/04_april/2007-04-
 22-20-30-kronenzeitung-lesen-mit-serdar-somuncu
END:VEVENT
BEGIN:VTIMEZONE
TZID:Europe/Berlin
X-LIC-LOCATION:Europe/Berlin
BEGIN:DAYLIGHT
DTSTART:20070325T030000
TZNAME:CEST
TZOFFSETFROM:+0100
TZOFFSETTO:+0200
END:DAYLIGHT
END:VTIMEZONE
END:VCALENDAR
