BEGIN:VCALENDAR
VERSION:2.0
PRODID:-//Plone.org//NONSGML plone.app.event//EN
X-WR-TIMEZONE:Europe/Berlin
BEGIN:VEVENT
SUMMARY:The Gamblers & Friends
DTSTART;TZID=Europe/Berlin:20070421T203000
DTSTAMP:20260422T113220Z
UID:a162316682504cfdb47928808b138311@zmi.spielboden.at
CREATED:20120822T145004Z
LAST-MODIFIED:20210809T123645Z
URL:https://zmi.spielboden.at/Plone/veranstaltungen/2007/04_april/2007-04-
 21-20-30-the-gamblers-friends
END:VEVENT
BEGIN:VTIMEZONE
TZID:Europe/Berlin
X-LIC-LOCATION:Europe/Berlin
BEGIN:DAYLIGHT
DTSTART:20070325T030000
TZNAME:CEST
TZOFFSETFROM:+0100
TZOFFSETTO:+0200
END:DAYLIGHT
END:VTIMEZONE
END:VCALENDAR
