BEGIN:VCALENDAR
VERSION:2.0
PRODID:-//Plone.org//NONSGML plone.app.event//EN
X-WR-TIMEZONE:Europe/Berlin
BEGIN:VEVENT
SUMMARY:Dokumentarfilm – Über Wasser
DTSTART;TZID=Europe/Berlin:20070421T203000
DTSTAMP:20260422T100036Z
UID:8d67d5f7868443979a4c626be35fda04@zmi.spielboden.at
CREATED:20120822T145000Z
LAST-MODIFIED:20210809T123643Z
URL:https://zmi.spielboden.at/Plone/veranstaltungen/2007/04_april/2007-04-
 21-20-30-dokumentarfilm-2013-ueber-wasser
END:VEVENT
BEGIN:VTIMEZONE
TZID:Europe/Berlin
X-LIC-LOCATION:Europe/Berlin
BEGIN:DAYLIGHT
DTSTART:20070325T030000
TZNAME:CEST
TZOFFSETFROM:+0100
TZOFFSETTO:+0200
END:DAYLIGHT
END:VTIMEZONE
END:VCALENDAR
