BEGIN:VCALENDAR
VERSION:2.0
PRODID:-//Plone.org//NONSGML plone.app.event//EN
X-WR-TIMEZONE:Europe/Berlin
BEGIN:VEVENT
SUMMARY:Jeunesse für Kinder – Theresas Traum
DTSTART;TZID=Europe/Berlin:20070421T150000
DTSTAMP:20260422T100613Z
UID:96f8f3c7121c440e95c37e3f596309de@zmi.spielboden.at
CREATED:20120822T144944Z
DESCRIPTION:Comic-Musik-Theater für Kinder ab 8 Jahren
LAST-MODIFIED:20210809T123640Z
URL:https://zmi.spielboden.at/Plone/veranstaltungen/2007/04_april/2007-04-
 21-15-00-jeunesse-fuer-kinder-2013-theresas-traum
END:VEVENT
BEGIN:VTIMEZONE
TZID:Europe/Berlin
X-LIC-LOCATION:Europe/Berlin
BEGIN:DAYLIGHT
DTSTART:20070325T030000
TZNAME:CEST
TZOFFSETFROM:+0100
TZOFFSETTO:+0200
END:DAYLIGHT
END:VTIMEZONE
END:VCALENDAR
