BEGIN:VCALENDAR
VERSION:2.0
PRODID:-//Plone.org//NONSGML plone.app.event//EN
X-WR-TIMEZONE:Europe/Berlin
BEGIN:VEVENT
SUMMARY:Riccardo Tesi & Banditaliana
DTSTART;TZID=Europe/Berlin:20070420T203000
DTSTAMP:20260422T113642Z
UID:66c2577192f841b7bff5e8db40fa20a9@zmi.spielboden.at
CREATED:20120822T144948Z
DESCRIPTION:Akkordeon-Festival am Spielboden - 4. März bis 10. Mai 2007\n
LAST-MODIFIED:20210809T123641Z
URL:https://zmi.spielboden.at/Plone/veranstaltungen/2007/04_april/2007-04-
 20-20-30-riccardo-tesi-banditaliana
END:VEVENT
BEGIN:VTIMEZONE
TZID:Europe/Berlin
X-LIC-LOCATION:Europe/Berlin
BEGIN:DAYLIGHT
DTSTART:20070325T030000
TZNAME:CEST
TZOFFSETFROM:+0100
TZOFFSETTO:+0200
END:DAYLIGHT
END:VTIMEZONE
END:VCALENDAR
