BEGIN:VCALENDAR
VERSION:2.0
PRODID:-//Plone.org//NONSGML plone.app.event//EN
X-WR-TIMEZONE:Europe/Berlin
BEGIN:VEVENT
SUMMARY:Dokumentarfilm - Paradise Lost 1 -  The Child Murders at Robin Hoo
 d Hills
DTSTART;TZID=Europe/Berlin:20070420T203000
DTSTAMP:20260422T100807Z
UID:262d3abd445f41e482ff6d29ab9f19d4@zmi.spielboden.at
CREATED:20120822T144959Z
DESCRIPTION:Todesstrafe im Film – In Zusammenarbeit mit Amnesty Internat
 ional
LAST-MODIFIED:20210809T123643Z
URL:https://zmi.spielboden.at/Plone/veranstaltungen/2007/04_april/2007-04-
 20-20-30-dokumentarfilm-paradise-lost-1-the-child-murders-at-robin-hood-hi
 lls
END:VEVENT
BEGIN:VTIMEZONE
TZID:Europe/Berlin
X-LIC-LOCATION:Europe/Berlin
BEGIN:DAYLIGHT
DTSTART:20070325T030000
TZNAME:CEST
TZOFFSETFROM:+0100
TZOFFSETTO:+0200
END:DAYLIGHT
END:VTIMEZONE
END:VCALENDAR
