BEGIN:VCALENDAR
VERSION:2.0
PRODID:-//Plone.org//NONSGML plone.app.event//EN
X-WR-TIMEZONE:Europe/Berlin
BEGIN:VEVENT
SUMMARY:Pago Libre "Blackmail"
DTSTART;TZID=Europe/Berlin:20070418T203000
DTSTAMP:20260422T081106Z
UID:2068431994a94c80bcb96f6623d0d7b4@zmi.spielboden.at
CREATED:20120822T144945Z
DESCRIPTION:In Kooperation mit Jeunesse
LAST-MODIFIED:20210809T123641Z
URL:https://zmi.spielboden.at/Plone/veranstaltungen/2007/04_april/2007-04-
 18-20-30-pago-libre-blackmail
END:VEVENT
BEGIN:VTIMEZONE
TZID:Europe/Berlin
X-LIC-LOCATION:Europe/Berlin
BEGIN:DAYLIGHT
DTSTART:20070325T030000
TZNAME:CEST
TZOFFSETFROM:+0100
TZOFFSETTO:+0200
END:DAYLIGHT
END:VTIMEZONE
END:VCALENDAR
