BEGIN:VCALENDAR
VERSION:2.0
PRODID:-//Plone.org//NONSGML plone.app.event//EN
X-WR-TIMEZONE:Europe/Berlin
BEGIN:VEVENT
SUMMARY:Film – Ein kurzer Film über das Töten
DTSTART;TZID=Europe/Berlin:20070418T203000
DTSTAMP:20260422T081549Z
UID:74a1a3466c584315b31aa872a3917229@zmi.spielboden.at
CREATED:20120822T144958Z
DESCRIPTION:Todesstrafe im Film – In Zusammenarbeit mit Amnesty Internat
 ional
LAST-MODIFIED:20210809T123643Z
URL:https://zmi.spielboden.at/Plone/veranstaltungen/2007/04_april/2007-04-
 18-20-30-film-2013-ein-kurzer-film-ueber-das-toeten
END:VEVENT
BEGIN:VTIMEZONE
TZID:Europe/Berlin
X-LIC-LOCATION:Europe/Berlin
BEGIN:DAYLIGHT
DTSTART:20070325T030000
TZNAME:CEST
TZOFFSETFROM:+0100
TZOFFSETTO:+0200
END:DAYLIGHT
END:VTIMEZONE
END:VCALENDAR
