BEGIN:VCALENDAR
VERSION:2.0
PRODID:-//Plone.org//NONSGML plone.app.event//EN
X-WR-TIMEZONE:Europe/Berlin
BEGIN:VEVENT
SUMMARY:Christian Muthspiel Trio: "The Music of Pepl and Pirchner" & der F
 ilm "Der Untergang des Alpenlandes" von Werner Pirchner
DTSTART;TZID=Europe/Berlin:20070413T203000
DTSTAMP:20260422T081705Z
UID:371a8d9b014d49ebb5e53000a077d8af@zmi.spielboden.at
CREATED:20120822T144945Z
LAST-MODIFIED:20210809T123641Z
URL:https://zmi.spielboden.at/Plone/veranstaltungen/2007/04_april/2007-04-
 13-20-30-christian-muthspiel-trio-the-music-of-pepl-and-pirchner-der-film-
 der-untergang-des-alpenlandes-von-werner-pirchner
END:VEVENT
BEGIN:VTIMEZONE
TZID:Europe/Berlin
X-LIC-LOCATION:Europe/Berlin
BEGIN:DAYLIGHT
DTSTART:20070325T030000
TZNAME:CEST
TZOFFSETFROM:+0100
TZOFFSETTO:+0200
END:DAYLIGHT
END:VTIMEZONE
END:VCALENDAR
