BEGIN:VCALENDAR
VERSION:2.0
PRODID:-//Plone.org//NONSGML plone.app.event//EN
X-WR-TIMEZONE:Europe/Berlin
BEGIN:VEVENT
SUMMARY:Werner Kofler
DTSTART;TZID=Europe/Berlin:20070411T203000
DTSTAMP:20260422T081232Z
UID:97cd66fc667b4567be6a5575944f2b4a@zmi.spielboden.at
CREATED:20120822T144952Z
LAST-MODIFIED:20210809T123642Z
URL:https://zmi.spielboden.at/Plone/veranstaltungen/2007/04_april/2007-04-
 11-20-30-werner-kofler
END:VEVENT
BEGIN:VTIMEZONE
TZID:Europe/Berlin
X-LIC-LOCATION:Europe/Berlin
BEGIN:DAYLIGHT
DTSTART:20070325T030000
TZNAME:CEST
TZOFFSETFROM:+0100
TZOFFSETTO:+0200
END:DAYLIGHT
END:VTIMEZONE
END:VCALENDAR
