BEGIN:VCALENDAR
VERSION:2.0
PRODID:-//Plone.org//NONSGML plone.app.event//EN
X-WR-TIMEZONE:Europe/Berlin
BEGIN:VEVENT
SUMMARY:Dokumentarfilm – Über Wasser
DTSTART;TZID=Europe/Berlin:20070405T203000
DTSTAMP:20260422T081413Z
UID:9f8f3c922a464189b38a5357809c0e58@zmi.spielboden.at
CREATED:20120822T144953Z
LAST-MODIFIED:20210809T123642Z
URL:https://zmi.spielboden.at/Plone/veranstaltungen/2007/04_april/2007-04-
 05-20-30-dokumentarfilm-2013-ueber-wasser
END:VEVENT
BEGIN:VTIMEZONE
TZID:Europe/Berlin
X-LIC-LOCATION:Europe/Berlin
BEGIN:DAYLIGHT
DTSTART:20070325T030000
TZNAME:CEST
TZOFFSETFROM:+0100
TZOFFSETTO:+0200
END:DAYLIGHT
END:VTIMEZONE
END:VCALENDAR
